BEGIN:VCALENDAR
VERSION:2.0
PRODID:-//Club Lotus - ECPv6.15.20//NONSGML v1.0//EN
CALSCALE:GREGORIAN
METHOD:PUBLISH
X-ORIGINAL-URL:https://www.clublotus.co.uk
X-WR-CALDESC:Events for Club Lotus
REFRESH-INTERVAL;VALUE=DURATION:PT1H
X-Robots-Tag:noindex
X-PUBLISHED-TTL:PT1H
BEGIN:VTIMEZONE
TZID:Europe/London
BEGIN:DAYLIGHT
TZOFFSETFROM:+0000
TZOFFSETTO:+0100
TZNAME:BST
DTSTART:20250330T010000
END:DAYLIGHT
BEGIN:STANDARD
TZOFFSETFROM:+0100
TZOFFSETTO:+0000
TZNAME:GMT
DTSTART:20251026T010000
END:STANDARD
BEGIN:DAYLIGHT
TZOFFSETFROM:+0000
TZOFFSETTO:+0100
TZNAME:BST
DTSTART:20260329T010000
END:DAYLIGHT
BEGIN:STANDARD
TZOFFSETFROM:+0100
TZOFFSETTO:+0000
TZNAME:GMT
DTSTART:20261025T010000
END:STANDARD
BEGIN:DAYLIGHT
TZOFFSETFROM:+0000
TZOFFSETTO:+0100
TZNAME:BST
DTSTART:20270328T010000
END:DAYLIGHT
BEGIN:STANDARD
TZOFFSETFROM:+0100
TZOFFSETTO:+0000
TZNAME:GMT
DTSTART:20271031T010000
END:STANDARD
END:VTIMEZONE
BEGIN:VEVENT
DTSTART;TZID=Europe/London:20260523T090000
DTEND;TZID=Europe/London:20260523T170000
DTSTAMP:20260425T163926
CREATED:20260424T144036Z
LAST-MODIFIED:20260424T165911Z
UID:10000003-1779526800-1779555600@www.clublotus.co.uk
SUMMARY:Castle Combe Track Day
DESCRIPTION:Our annual May Bank Holiday track day at Castle Combe is one of the most enjoyable events in the Club calendar – a great Club Lotus day out\, and exceptional value for a safe\, well-run track day held exclusively for our members and their club-eligible cars. \nCastle Combe is among the friendliest of UK race circuits\, with a superb\, smooth\, fast-flowing 1.85-mile layout and excellent facilities for drivers and spectators alike. The circuit strictly enforces its Friday-evening rules on our behalf: no race cars\, transporters or motor homes are permitted in the paddock after 17:00 on Friday 22 May. \nPublic admission is free. Whether you’re driving\, spectating\, catching up with friends or simply spending the day surrounded by great cars and fellow enthusiasts\, you’re welcome. \nTrack driving package – £120 \nYour £120 entry guarantees two 15-minute sessions on circuit from 09:00\, in rotation with fellow drivers. Once all guaranteed sessions have run\, we move to open pit lane – typically from 14:00 to 14:30 – at which point you’re free to go out as many times as you wish until the circuit closes at 17:00. \n\n	\n\n		\n		\n		\n\n		\n\n\n		\n\n\n\n	Tickets\n\n		\n	\n	\n		The numbers below include tickets for this event already in your cart. Clicking "Get Tickets" will allow you to edit any existing attendee information as well as change ticket quantities.	\n\n\n		\n\n	\n		\n				Driver Entry - Castle Combe 23/05/2026	\n\n\n\n\n	Your £120 entry guarantees two 15-minute sessions on the 1.85-mile Castle Combe circuit from 09:00\, followed by open pit lane from approximately 14:00 until the circuit closes at 17:00. Includes paddock access\, drivers' briefing and event marshalling. Lunch and refreshments available from the circuit café.\nOpen to current Club Lotus members driving Lotus or club-eligible cars (Caterham\, Westfield\, VX220 and Seven-derived marques). Membership will be verified before booking confirmation.\n\n\n	\n		\n		\n				\n					£\n					120.00\n				\n						\n\n\n	\n\n\n	\n	 60  available\n\n\n	\n\n\n	\n						\n	Decrease ticket quantity for Driver Entry - Castle Combe 23/05/2026\n	-\n				\n\n	\n		Quantity	\n	\n\n					\n	Increase ticket quantity for Driver Entry - Castle Combe 23/05/2026\n	+\n			\n\n	\n		\n	\n\n\n		\n\n	\n	\n	\n		Quantity:	\n	0\n\n\n	\n	\n		Total:	\n	\n		\n				\n					£\n					0.00\n				\n				\n\n\n	Get Tickets\n\n		\n				\n	\n\n\n		\n		\n	\n	\n\n	\n	\n\n	\n	\n\n\n\n			\n\n	\n\n\n\nEligibility \nOpen to current Club Lotus members only. Eligible cars include any Lotus\, classic or current – Elan\, Europa\, Esprit\, Elite\, Eclat\, Excel\, Elise\, Exige\, Evora\, Emira and the latest electric era – together with Club Lotus-eligible marques: Caterham\, Westfield\, Tiger\, Birkin and other Seven-derived cars\, and Vauxhall VX220. Drivers must hold a current Club Lotus membership at the time of the event\, a full UK or equivalent driving licence\, and be aged 18 or over. Cars must be road-legal\, taxed\, insured\, and presented in safe mechanical condition. Helmets are mandatory; long sleeves and long trousers are strongly recommended. \nNoise regulations – please read before booking \nCastle Combe operates strict noise limits: 100 dB(A) on the static test and 87 dB(A) drive-by on track. The circuit’s testing environment is known to read higher than other venues\, and cars that have passed elsewhere have been refused at Combe. If your car runs an aftermarket or decatted exhaust\, please satisfy yourself of compliance before booking. Drivers who fail testing will not be permitted on track\, and the circuit’s refund policy (not the Club’s) will apply. \nBooking \nOnline bookings close at 12:30 on Thursday 21 May 2026. After that\, booking is available by telephone until 17:00 on Thursday 21 May 2026 on 01362 691144 or 01362 694459.\nYou must be a current Club Lotus member to purchase a track driving package. Your membership number will be requested at checkout and verified before your place is confirmed. If your membership has lapsed\, please renew before booking.\nAll bookings will be confirmed by email once membership has been verified and your place allocated. \nCancellation \nCancellations received in writing more than 28 days before the event: full refund less administrative fee. Within 28 days: no refund\, but places may be transferred to another current Club Lotus member at the driver’s own arrangement\, subject to notification to the Club by 20 May 2026. The event will proceed in all weather short of conditions deemed unsafe by the circuit; circuit closure for reasons outside the Club’s control is not refundable by the Club.
URL:https://www.clublotus.co.uk/club-event/castle-combe-track-day-23-may-2026/
LOCATION:Castle Combe Circuit\, Castle Combe Circuit\, Chippenham\, Wiltshire\, SN14 7EY\, United Kingdom
CATEGORIES:2026 Season,UK Circuit
ATTACH;FMTTYPE=image/webp:https://www.clublotus.co.uk/wp-content/uploads/2026/04/CastelCombe-ClubLotus.webp
ORGANIZER;CN="Club Lotus":MAILTO:info@clublotus.co.uk
GEO:51.4937077;-2.2143593
X-APPLE-STRUCTURED-LOCATION;VALUE=URI;X-ADDRESS=Castle Combe Circuit Castle Combe Circuit Chippenham Wiltshire SN14 7EY United Kingdom;X-APPLE-RADIUS=500;X-TITLE=Castle Combe Circuit:geo:-2.2143593,51.4937077
END:VEVENT
END:VCALENDAR