BEGIN:VCALENDAR
VERSION:2.0
PRODID:-//Club Lotus - ECPv6.15.20//NONSGML v1.0//EN
CALSCALE:GREGORIAN
METHOD:PUBLISH
X-WR-CALNAME:Club Lotus
X-ORIGINAL-URL:https://www.clublotus.co.uk
X-WR-CALDESC:Events for Club Lotus
REFRESH-INTERVAL;VALUE=DURATION:PT1H
X-Robots-Tag:noindex
X-PUBLISHED-TTL:PT1H
BEGIN:VTIMEZONE
TZID:Europe/London
BEGIN:DAYLIGHT
TZOFFSETFROM:+0000
TZOFFSETTO:+0100
TZNAME:BST
DTSTART:20240331T010000
END:DAYLIGHT
BEGIN:STANDARD
TZOFFSETFROM:+0100
TZOFFSETTO:+0000
TZNAME:GMT
DTSTART:20241027T010000
END:STANDARD
BEGIN:DAYLIGHT
TZOFFSETFROM:+0000
TZOFFSETTO:+0100
TZNAME:BST
DTSTART:20250330T010000
END:DAYLIGHT
BEGIN:STANDARD
TZOFFSETFROM:+0100
TZOFFSETTO:+0000
TZNAME:GMT
DTSTART:20251026T010000
END:STANDARD
BEGIN:DAYLIGHT
TZOFFSETFROM:+0000
TZOFFSETTO:+0100
TZNAME:BST
DTSTART:20260329T010000
END:DAYLIGHT
BEGIN:STANDARD
TZOFFSETFROM:+0100
TZOFFSETTO:+0000
TZNAME:GMT
DTSTART:20261025T010000
END:STANDARD
END:VTIMEZONE
BEGIN:VEVENT
DTSTART;TZID=Europe/London:20251110T100000
DTEND;TZID=Europe/London:20251130T180000
DTSTAMP:20260426T041304
CREATED:20251104T070917Z
LAST-MODIFIED:20251104T070917Z
UID:10000001-1762768800-1764525600@www.clublotus.co.uk
SUMMARY:Club Lotus Annual Meet 2025
DESCRIPTION:Join us for the Club Lotus Annual Meet 2025\, the biggest gathering of Lotus enthusiasts in the UK!Experience a day filled with classic and modern Lotus cars\, exciting track sessions\, and the chance to meet fellow club members and Lotus legends. \nHighlights include: \n\n\nLive car displays featuring Lotus Elise\, Evora\, and the iconic Lotus 49. \n\n\nTrack parade and performance sessions. \n\n\nExclusive Q&A with veteran drivers and Lotus engineers. \n\n\nClub merchandise & accessories stall. \n\n\nFood trucks\, refreshments\, and family-friendly activities throughout the day. \n\n\nWhether you’re a proud Lotus owner or simply a fan\, this event is the perfect place to celebrate the Lotus legacy.
URL:https://www.clublotus.co.uk/club-event/club-lotus-annual-meet-2025/
LOCATION:Silverstone Circuit\, owcester\, Northamptonshire\, UK\, Melbourne\, Victoria\, 3000\, Australia
CATEGORIES:Social & Meetings,Tours & Drives,Track Day
ATTACH;FMTTYPE=image/jpeg:https://www.clublotus.co.uk/wp-content/uploads/2025/11/550196397_18524567089017110_3224620931377146164_n.jpg
ORGANIZER;CN="Club Lotus":MAILTO:info@clublotus.co.uk
END:VEVENT
END:VCALENDAR